BEGIN:VCALENDAR
VERSION:2.0
PRODID:-//Hula Grill Waikiki - ECPv6.15.20//NONSGML v1.0//EN
CALSCALE:GREGORIAN
METHOD:PUBLISH
X-WR-CALNAME:Hula Grill Waikiki
X-ORIGINAL-URL:https://www.hulagrillwaikiki.com
X-WR-CALDESC:Events for Hula Grill Waikiki
REFRESH-INTERVAL;VALUE=DURATION:PT1H
X-Robots-Tag:noindex
X-PUBLISHED-TTL:PT1H
BEGIN:VTIMEZONE
TZID:America/Los_Angeles
BEGIN:DAYLIGHT
TZOFFSETFROM:-0800
TZOFFSETTO:-0700
TZNAME:PDT
DTSTART:20170312T100000
END:DAYLIGHT
BEGIN:STANDARD
TZOFFSETFROM:-0700
TZOFFSETTO:-0800
TZNAME:PST
DTSTART:20171105T090000
END:STANDARD
BEGIN:DAYLIGHT
TZOFFSETFROM:-0800
TZOFFSETTO:-0700
TZNAME:PDT
DTSTART:20180311T100000
END:DAYLIGHT
BEGIN:STANDARD
TZOFFSETFROM:-0700
TZOFFSETTO:-0800
TZNAME:PST
DTSTART:20181104T090000
END:STANDARD
BEGIN:DAYLIGHT
TZOFFSETFROM:-0800
TZOFFSETTO:-0700
TZNAME:PDT
DTSTART:20190310T100000
END:DAYLIGHT
BEGIN:STANDARD
TZOFFSETFROM:-0700
TZOFFSETTO:-0800
TZNAME:PST
DTSTART:20191103T090000
END:STANDARD
END:VTIMEZONE
BEGIN:VEVENT
DTSTART;TZID=America/Los_Angeles:20181207T190000
DTEND;TZID=America/Los_Angeles:20181207T210000
DTSTAMP:20260421T194839
CREATED:20181204T203239Z
LAST-MODIFIED:20190103T191253Z
UID:1024-1544209200-1544216400@www.hulagrillwaikiki.com
SUMMARY:Live Entertainment
DESCRIPTION:Enjoy a live performance from Kala’e & Kamaka Camarillo with Hula Dancer\, Kapua!
URL:https://www.hulagrillwaikiki.com/event/live-entertainment-25/
LOCATION:Hula Grill Waikiki\, 2335 Kalakaua Ave #203\, Honolulu\, HI\, 96815\, United States
CATEGORIES:Live Entertainment
ATTACH;FMTTYPE=image/jpeg:https://www.hulagrillwaikiki.com/wp-content/uploads/2018/12/HGW-Hula-Live-Entertainment.jpg
END:VEVENT
END:VCALENDAR