BEGIN:VCALENDAR
VERSION:2.0
PRODID:-//Hula Grill Waikiki - ECPv6.15.20//NONSGML v1.0//EN
CALSCALE:GREGORIAN
METHOD:PUBLISH
X-WR-CALNAME:Hula Grill Waikiki
X-ORIGINAL-URL:https://www.hulagrillwaikiki.com
X-WR-CALDESC:Events for Hula Grill Waikiki
REFRESH-INTERVAL;VALUE=DURATION:PT1H
X-Robots-Tag:noindex
X-PUBLISHED-TTL:PT1H
BEGIN:VTIMEZONE
TZID:Pacific/Honolulu
BEGIN:STANDARD
TZOFFSETFROM:-1000
TZOFFSETTO:-1000
TZNAME:HST
DTSTART:20190101T000000
END:STANDARD
END:VTIMEZONE
BEGIN:VEVENT
DTSTART;TZID=Pacific/Honolulu:20200111T180000
DTEND;TZID=Pacific/Honolulu:20200111T203000
DTSTAMP:20260421T144108
CREATED:20200109T183636Z
LAST-MODIFIED:20200109T183713Z
UID:2460-1578765600-1578774600@www.hulagrillwaikiki.com
SUMMARY:Live Entertainment
DESCRIPTION:Join us for a live performance by Christian Yrizarry with a Hula Dancer on Saturday from 6:00-8:30pm
URL:https://www.hulagrillwaikiki.com/event/live-entertainment-christian-yrizarry-new-time/
LOCATION:Hula Grill Waikiki\, 2335 Kalakaua Ave #203\, Honolulu\, HI\, 96815\, United States
CATEGORIES:Live Entertainment
ATTACH;FMTTYPE=image/jpeg:https://www.hulagrillwaikiki.com/wp-content/uploads/2018/12/David-Asing-Happenings-HGW.jpg
END:VEVENT
END:VCALENDAR