BEGIN:VCALENDAR
VERSION:2.0
PRODID:-//Hula Grill Waikiki - ECPv6.15.20//NONSGML v1.0//EN
CALSCALE:GREGORIAN
METHOD:PUBLISH
X-WR-CALNAME:Hula Grill Waikiki
X-ORIGINAL-URL:https://www.hulagrillwaikiki.com
X-WR-CALDESC:Events for Hula Grill Waikiki
REFRESH-INTERVAL;VALUE=DURATION:PT1H
X-Robots-Tag:noindex
X-PUBLISHED-TTL:PT1H
BEGIN:VTIMEZONE
TZID:Pacific/Honolulu
BEGIN:STANDARD
TZOFFSETFROM:-1000
TZOFFSETTO:-1000
TZNAME:HST
DTSTART:20240101T000000
END:STANDARD
END:VTIMEZONE
BEGIN:VEVENT
DTSTART;TZID=Pacific/Honolulu:20250529T120000
DTEND;TZID=Pacific/Honolulu:20250529T140000
DTSTAMP:20260423T000010
CREATED:20250501T043248Z
LAST-MODIFIED:20250501T043248Z
UID:6503-1748520000-1748527200@www.hulagrillwaikiki.com
SUMMARY:Live Music: Yoza
DESCRIPTION:Join us for live music by Yoza on Thursday\, May 29\, from 12:00pm – 2:00pm.
URL:https://www.hulagrillwaikiki.com/event/live-music-yoza-9/
LOCATION:Hula Grill Waikiki\, 2335 Kalakaua Ave #203\, Honolulu\, HI\, 96815\, United States
CATEGORIES:Live Entertainment
ATTACH;FMTTYPE=image/jpeg:https://www.hulagrillwaikiki.com/wp-content/uploads/2024/07/iStock-1263105417.jpg
END:VEVENT
END:VCALENDAR