BEGIN:VCALENDAR
VERSION:2.0
PRODID:-//Hula Grill Waikiki - ECPv6.15.20//NONSGML v1.0//EN
CALSCALE:GREGORIAN
METHOD:PUBLISH
X-ORIGINAL-URL:https://www.hulagrillwaikiki.com
X-WR-CALDESC:Events for Hula Grill Waikiki
REFRESH-INTERVAL;VALUE=DURATION:PT1H
X-Robots-Tag:noindex
X-PUBLISHED-TTL:PT1H
BEGIN:VTIMEZONE
TZID:Pacific/Honolulu
BEGIN:STANDARD
TZOFFSETFROM:-1000
TZOFFSETTO:-1000
TZNAME:HST
DTSTART:20240101T000000
END:STANDARD
END:VTIMEZONE
BEGIN:VEVENT
DTSTART;TZID=Pacific/Honolulu:20260418T140000
DTEND;TZID=Pacific/Honolulu:20260418T160000
DTSTAMP:20260419T042656
CREATED:20260327T071706Z
LAST-MODIFIED:20260327T071706Z
UID:6675-1776520800-1776528000@www.hulagrillwaikiki.com
SUMMARY:Live Music: Walt Keale
DESCRIPTION:Join us for live music by Walt Keale on Saturday\, April 18 from 2:00-4:00pm.
URL:https://www.hulagrillwaikiki.com/event/live-music-walt-keale-10/
LOCATION:Hula Grill Waikiki\, 2335 Kalakaua Ave #203\, Honolulu\, HI\, 96815\, United States
CATEGORIES:Live Entertainment,Weekly Events
ATTACH;FMTTYPE=image/jpeg:https://www.hulagrillwaikiki.com/wp-content/uploads/2024/07/iStock-1190645702.jpg
END:VEVENT
BEGIN:VEVENT
DTSTART;TZID=Pacific/Honolulu:20260417T140000
DTEND;TZID=Pacific/Honolulu:20260417T160000
DTSTAMP:20260419T042656
CREATED:20260327T071009Z
LAST-MODIFIED:20260327T071009Z
UID:6671-1776434400-1776441600@www.hulagrillwaikiki.com
SUMMARY:Live Music: Randy Allen
DESCRIPTION:Join us for live music by Randy Allen every Friday from 2:00-4:00pm.
URL:https://www.hulagrillwaikiki.com/event/live-music-randy-allen-31/
LOCATION:Hula Grill Waikiki\, 2335 Kalakaua Ave #203\, Honolulu\, HI\, 96815\, United States
CATEGORIES:Live Entertainment,Weekly Events
ATTACH;FMTTYPE=image/jpeg:https://www.hulagrillwaikiki.com/wp-content/uploads/2024/07/iStock-1190645702.jpg
END:VEVENT
BEGIN:VEVENT
DTSTART;TZID=Pacific/Honolulu:20260416T140000
DTEND;TZID=Pacific/Honolulu:20260416T160000
DTSTAMP:20260419T042656
CREATED:20260327T070616Z
LAST-MODIFIED:20260327T070616Z
UID:6666-1776348000-1776355200@www.hulagrillwaikiki.com
SUMMARY:Live Music: Yoza
DESCRIPTION:Join us for live music by Yoza every Thursday from 2:00-4:00pm.
URL:https://www.hulagrillwaikiki.com/event/live-music-yoza-29/
LOCATION:Hula Grill Waikiki\, 2335 Kalakaua Ave #203\, Honolulu\, HI\, 96815\, United States
CATEGORIES:Live Entertainment,Weekly Events
ATTACH;FMTTYPE=image/jpeg:https://www.hulagrillwaikiki.com/wp-content/uploads/2024/07/iStock-1263105417.jpg
END:VEVENT
BEGIN:VEVENT
DTSTART;TZID=Pacific/Honolulu:20260415T140000
DTEND;TZID=Pacific/Honolulu:20260415T160000
DTSTAMP:20260419T042656
CREATED:20260327T070150Z
LAST-MODIFIED:20260327T070150Z
UID:6661-1776261600-1776268800@www.hulagrillwaikiki.com
SUMMARY:Live Music: Ronson Asuncion
DESCRIPTION:Join us for live music by Ronson Asuncion every Wednesday from 2:00-4:00pm.
URL:https://www.hulagrillwaikiki.com/event/live-music-ronson-asuncion-28/
LOCATION:Hula Grill Waikiki\, 2335 Kalakaua Ave #203\, Honolulu\, HI\, 96815\, United States
CATEGORIES:Live Entertainment,Weekly Events
ATTACH;FMTTYPE=image/jpeg:https://www.hulagrillwaikiki.com/wp-content/uploads/2024/07/jefferson-santos-fCEJGBzAkrU-unsplash-scaled.jpg
END:VEVENT
BEGIN:VEVENT
DTSTART;TZID=Pacific/Honolulu:20260414T140000
DTEND;TZID=Pacific/Honolulu:20260414T160000
DTSTAMP:20260419T042656
CREATED:20260327T073240Z
LAST-MODIFIED:20260327T073240Z
UID:6686-1776175200-1776182400@www.hulagrillwaikiki.com
SUMMARY:Live Music: Kawika Kahiapo
DESCRIPTION:Join us for live music by Kawika Kahiapo every Tuesday from 2:00-4:00pm.
URL:https://www.hulagrillwaikiki.com/event/live-music-kawika-kahiapo-26/
LOCATION:Hula Grill Waikiki\, 2335 Kalakaua Ave #203\, Honolulu\, HI\, 96815\, United States
CATEGORIES:Live Entertainment,Weekly Events
ATTACH;FMTTYPE=image/jpeg:https://www.hulagrillwaikiki.com/wp-content/uploads/2024/07/iStock-1190645702.jpg
END:VEVENT
BEGIN:VEVENT
DTSTART;TZID=Pacific/Honolulu:20260413T140000
DTEND;TZID=Pacific/Honolulu:20260413T160000
DTSTAMP:20260419T042656
CREATED:20260327T072826Z
LAST-MODIFIED:20260327T072826Z
UID:6682-1776088800-1776096000@www.hulagrillwaikiki.com
SUMMARY:Live Music: Denny Ono
DESCRIPTION:Join us for live music by Denny Ono on Monday\, April 13 from 2:00-4:00pm.
URL:https://www.hulagrillwaikiki.com/event/live-music-denny-ono-2/
LOCATION:Hula Grill Waikiki\, 2335 Kalakaua Ave #203\, Honolulu\, HI\, 96815\, United States
CATEGORIES:Live Entertainment,Weekly Events
ATTACH;FMTTYPE=image/jpeg:https://www.hulagrillwaikiki.com/wp-content/uploads/2024/07/iStock-1263105417.jpg
END:VEVENT
BEGIN:VEVENT
DTSTART;TZID=Pacific/Honolulu:20260412T140000
DTEND;TZID=Pacific/Honolulu:20260412T160000
DTSTAMP:20260419T042656
CREATED:20260327T072335Z
LAST-MODIFIED:20260327T072335Z
UID:6678-1776002400-1776009600@www.hulagrillwaikiki.com
SUMMARY:Live Music: Darrell Aquino with Hula
DESCRIPTION:Join us for live music by Darrell Aquino accompanied by a Hula Performance on Sunday\, April 12 from 2:00-4:00pm.
URL:https://www.hulagrillwaikiki.com/event/live-music-darrell-aquino-with-hula/
LOCATION:Hula Grill Waikiki\, 2335 Kalakaua Ave #203\, Honolulu\, HI\, 96815\, United States
CATEGORIES:Live Entertainment,Weekly Events
ATTACH;FMTTYPE=image/jpeg:https://www.hulagrillwaikiki.com/wp-content/uploads/2024/07/iStock-1263105417.jpg
END:VEVENT
BEGIN:VEVENT
DTSTART;TZID=Pacific/Honolulu:20260411T140000
DTEND;TZID=Pacific/Honolulu:20260411T160000
DTSTAMP:20260419T042656
CREATED:20260327T071607Z
LAST-MODIFIED:20260327T071607Z
UID:6674-1775916000-1775923200@www.hulagrillwaikiki.com
SUMMARY:Live Music: Kamaka Camarillo
DESCRIPTION:Join us for live music by Kamaka Camarillo on Saturday\, April 11 from 2:00-4:00pm.
URL:https://www.hulagrillwaikiki.com/event/live-music-kamaka-camarillo-13/
LOCATION:Hula Grill Waikiki\, 2335 Kalakaua Ave #203\, Honolulu\, HI\, 96815\, United States
CATEGORIES:Live Entertainment,Weekly Events
ATTACH;FMTTYPE=image/jpeg:https://www.hulagrillwaikiki.com/wp-content/uploads/2024/07/jefferson-santos-fCEJGBzAkrU-unsplash-scaled.jpg
END:VEVENT
BEGIN:VEVENT
DTSTART;TZID=Pacific/Honolulu:20260410T140000
DTEND;TZID=Pacific/Honolulu:20260410T160000
DTSTAMP:20260419T042656
CREATED:20260327T070921Z
LAST-MODIFIED:20260327T070921Z
UID:6670-1775829600-1775836800@www.hulagrillwaikiki.com
SUMMARY:Live Music: Randy Allen
DESCRIPTION:Join us for live music by Randy Allen every Friday from 2:00-4:00pm.
URL:https://www.hulagrillwaikiki.com/event/live-music-randy-allen-30/
LOCATION:Hula Grill Waikiki\, 2335 Kalakaua Ave #203\, Honolulu\, HI\, 96815\, United States
CATEGORIES:Live Entertainment,Weekly Events
ATTACH;FMTTYPE=image/jpeg:https://www.hulagrillwaikiki.com/wp-content/uploads/2024/07/iStock-1190645702.jpg
END:VEVENT
BEGIN:VEVENT
DTSTART;TZID=Pacific/Honolulu:20260409T140000
DTEND;TZID=Pacific/Honolulu:20260409T160000
DTSTAMP:20260419T042656
CREATED:20260327T070533Z
LAST-MODIFIED:20260327T070533Z
UID:6665-1775743200-1775750400@www.hulagrillwaikiki.com
SUMMARY:Live Music: Yoza
DESCRIPTION:Join us for live music by Yoza every Thursday from 2:00-4:00pm.
URL:https://www.hulagrillwaikiki.com/event/live-music-yoza-28/
LOCATION:Hula Grill Waikiki\, 2335 Kalakaua Ave #203\, Honolulu\, HI\, 96815\, United States
CATEGORIES:Live Entertainment,Weekly Events
ATTACH;FMTTYPE=image/jpeg:https://www.hulagrillwaikiki.com/wp-content/uploads/2024/07/iStock-1263105417.jpg
END:VEVENT
BEGIN:VEVENT
DTSTART;TZID=Pacific/Honolulu:20260408T140000
DTEND;TZID=Pacific/Honolulu:20260408T160000
DTSTAMP:20260419T042656
CREATED:20260327T070055Z
LAST-MODIFIED:20260327T070055Z
UID:6660-1775656800-1775664000@www.hulagrillwaikiki.com
SUMMARY:Live Music: Ronson Asuncion
DESCRIPTION:Join us for live music by Ronson Asuncion every Wednesday from 2:00-4:00pm.
URL:https://www.hulagrillwaikiki.com/event/live-music-ronson-asuncion-27/
LOCATION:Hula Grill Waikiki\, 2335 Kalakaua Ave #203\, Honolulu\, HI\, 96815\, United States
CATEGORIES:Live Entertainment,Weekly Events
ATTACH;FMTTYPE=image/jpeg:https://www.hulagrillwaikiki.com/wp-content/uploads/2024/07/jefferson-santos-fCEJGBzAkrU-unsplash-scaled.jpg
END:VEVENT
BEGIN:VEVENT
DTSTART;TZID=Pacific/Honolulu:20260407T140000
DTEND;TZID=Pacific/Honolulu:20260407T160000
DTSTAMP:20260419T042656
CREATED:20260327T073128Z
LAST-MODIFIED:20260327T073128Z
UID:6685-1775570400-1775577600@www.hulagrillwaikiki.com
SUMMARY:Live Music: Kahiau Lam Ho
DESCRIPTION:Join us for live music by Kahiau Lam Ho on Tuesday\, April 7\, from 2:00-4:00pm.
URL:https://www.hulagrillwaikiki.com/event/live-music-kahiau-lam-ho-6/
LOCATION:Hula Grill Waikiki\, 2335 Kalakaua Ave #203\, Honolulu\, HI\, 96815\, United States
CATEGORIES:Live Entertainment,Weekly Events
ATTACH;FMTTYPE=image/jpeg:https://www.hulagrillwaikiki.com/wp-content/uploads/2024/07/iStock-1190645702.jpg
END:VEVENT
BEGIN:VEVENT
DTSTART;TZID=Pacific/Honolulu:20260406T140000
DTEND;TZID=Pacific/Honolulu:20260406T160000
DTSTAMP:20260419T042656
CREATED:20260327T072554Z
LAST-MODIFIED:20260327T072554Z
UID:6681-1775484000-1775491200@www.hulagrillwaikiki.com
SUMMARY:Live Music: Keoni Ku
DESCRIPTION:Join us for live music by Keoni Ku on Monday\, April 6 from 2:00-4:00pm.
URL:https://www.hulagrillwaikiki.com/event/live-music-keoni-ku-3/
LOCATION:Hula Grill Waikiki\, 2335 Kalakaua Ave #203\, Honolulu\, HI\, 96815\, United States
CATEGORIES:Live Entertainment,Weekly Events
ATTACH;FMTTYPE=image/jpeg:https://www.hulagrillwaikiki.com/wp-content/uploads/2024/07/iStock-1190645702.jpg
END:VEVENT
BEGIN:VEVENT
DTSTART;TZID=Pacific/Honolulu:20260405T100000
DTEND;TZID=Pacific/Honolulu:20260405T120000
DTSTAMP:20260419T042656
CREATED:20260327T072154Z
LAST-MODIFIED:20260327T072154Z
UID:6677-1775383200-1775390400@www.hulagrillwaikiki.com
SUMMARY:Join Us For Hawaiʻi's Steel Guitar Sundays
DESCRIPTION:Enjoy live steel guitar music\, a delicious lunch\, and spectacular ocean views every first Sunday of the month from 10:00am – 12:00pm.
URL:https://www.hulagrillwaikiki.com/event/join-us-for-hawai%ca%bbis-steel-guitar-sundays/
LOCATION:Hula Grill Waikiki\, 2335 Kalakaua Ave #203\, Honolulu\, HI\, 96815\, United States
CATEGORIES:Live Entertainment,Weekly Events
END:VEVENT
BEGIN:VEVENT
DTSTART;TZID=Pacific/Honolulu:20260404T140000
DTEND;TZID=Pacific/Honolulu:20260404T160000
DTSTAMP:20260419T042656
CREATED:20260327T071513Z
LAST-MODIFIED:20260327T071513Z
UID:6673-1775311200-1775318400@www.hulagrillwaikiki.com
SUMMARY:Live Music: Stephen Inglis
DESCRIPTION:Join us for live music by Stephen Inglis on Saturday\, April 4 from 2:00-4:00pm.
URL:https://www.hulagrillwaikiki.com/event/live-music-stephen-inglis-4/
LOCATION:Hula Grill Waikiki\, 2335 Kalakaua Ave #203\, Honolulu\, HI\, 96815\, United States
CATEGORIES:Live Entertainment,Weekly Events
ATTACH;FMTTYPE=image/jpeg:https://www.hulagrillwaikiki.com/wp-content/uploads/2024/07/jefferson-santos-fCEJGBzAkrU-unsplash-scaled.jpg
END:VEVENT
BEGIN:VEVENT
DTSTART;TZID=Pacific/Honolulu:20260403T140000
DTEND;TZID=Pacific/Honolulu:20260403T160000
DTSTAMP:20260419T042656
CREATED:20260327T070842Z
LAST-MODIFIED:20260327T070842Z
UID:6669-1775224800-1775232000@www.hulagrillwaikiki.com
SUMMARY:Live Music: Randy Allen
DESCRIPTION:Join us for live music by Randy Allen every Friday from 2:00-4:00pm.
URL:https://www.hulagrillwaikiki.com/event/live-music-randy-allen-29/
LOCATION:Hula Grill Waikiki\, 2335 Kalakaua Ave #203\, Honolulu\, HI\, 96815\, United States
CATEGORIES:Live Entertainment,Weekly Events
ATTACH;FMTTYPE=image/jpeg:https://www.hulagrillwaikiki.com/wp-content/uploads/2024/07/iStock-1190645702.jpg
END:VEVENT
BEGIN:VEVENT
DTSTART;TZID=Pacific/Honolulu:20260402T140000
DTEND;TZID=Pacific/Honolulu:20260402T160000
DTSTAMP:20260419T042656
CREATED:20260327T070449Z
LAST-MODIFIED:20260327T070449Z
UID:6664-1775138400-1775145600@www.hulagrillwaikiki.com
SUMMARY:Live Music: Yoza
DESCRIPTION:Join us for live music by Yoza every Thursday from 2:00-4:00pm.
URL:https://www.hulagrillwaikiki.com/event/live-music-yoza-27/
LOCATION:Hula Grill Waikiki\, 2335 Kalakaua Ave #203\, Honolulu\, HI\, 96815\, United States
CATEGORIES:Live Entertainment,Weekly Events
ATTACH;FMTTYPE=image/jpeg:https://www.hulagrillwaikiki.com/wp-content/uploads/2024/07/iStock-1263105417.jpg
END:VEVENT
BEGIN:VEVENT
DTSTART;TZID=Pacific/Honolulu:20260401T140000
DTEND;TZID=Pacific/Honolulu:20260401T160000
DTSTAMP:20260419T042656
CREATED:20260327T064913Z
LAST-MODIFIED:20260327T064913Z
UID:6659-1775052000-1775059200@www.hulagrillwaikiki.com
SUMMARY:Live Music: Ronson Asuncion
DESCRIPTION:Join us for live music by Ronson Asuncion every Wednesday from 2:00-4:00pm.
URL:https://www.hulagrillwaikiki.com/event/live-music-ronson-asuncion-26/
LOCATION:Hula Grill Waikiki\, 2335 Kalakaua Ave #203\, Honolulu\, HI\, 96815\, United States
CATEGORIES:Live Entertainment,Weekly Events
ATTACH;FMTTYPE=image/jpeg:https://www.hulagrillwaikiki.com/wp-content/uploads/2024/07/jefferson-santos-fCEJGBzAkrU-unsplash-scaled.jpg
END:VEVENT
BEGIN:VEVENT
DTSTART;TZID=Pacific/Honolulu:20251129T140000
DTEND;TZID=Pacific/Honolulu:20251129T160000
DTSTAMP:20260419T042656
CREATED:20251103T223301Z
LAST-MODIFIED:20251103T223301Z
UID:6635-1764424800-1764432000@www.hulagrillwaikiki.com
SUMMARY:Live Music: Kamaka Camarillo
DESCRIPTION:Join us for live music by Kamaka Camarillo on Saturday\, November 29\, 2025\, from 2:00pm – 4:00pm.
URL:https://www.hulagrillwaikiki.com/event/live-music-kamaka-camarillo-12/
LOCATION:Hula Grill Waikiki\, 2335 Kalakaua Ave #203\, Honolulu\, HI\, 96815\, United States
CATEGORIES:Live Entertainment,Weekly Events
ATTACH;FMTTYPE=image/jpeg:https://www.hulagrillwaikiki.com/wp-content/uploads/2024/07/iStock-1190645702.jpg
END:VEVENT
BEGIN:VEVENT
DTSTART;TZID=Pacific/Honolulu:20251128T140000
DTEND;TZID=Pacific/Honolulu:20251128T160000
DTSTAMP:20260419T042656
CREATED:20251103T221756Z
LAST-MODIFIED:20251103T223614Z
UID:6625-1764338400-1764345600@www.hulagrillwaikiki.com
SUMMARY:Live Music: Randy Allen
DESCRIPTION:Join us for live music by Randy Allen every Friday from 2:00pm – 4:00pm.
URL:https://www.hulagrillwaikiki.com/event/live-music-randy-allen-28/
LOCATION:Hula Grill Waikiki\, 2335 Kalakaua Ave #203\, Honolulu\, HI\, 96815\, United States
CATEGORIES:Live Entertainment,Weekly Events
ATTACH;FMTTYPE=image/jpeg:https://www.hulagrillwaikiki.com/wp-content/uploads/2024/07/iStock-1263105417.jpg
END:VEVENT
BEGIN:VEVENT
DTSTART;TZID=Pacific/Honolulu:20251127T140000
DTEND;TZID=Pacific/Honolulu:20251127T160000
DTSTAMP:20260419T042656
CREATED:20251103T221454Z
LAST-MODIFIED:20251103T221454Z
UID:6621-1764252000-1764259200@www.hulagrillwaikiki.com
SUMMARY:Live Music: Yoza
DESCRIPTION:Join us for live music by Yoza every Thursday from 2:00pm – 4:00pm.
URL:https://www.hulagrillwaikiki.com/event/live-music-yoza-26/
LOCATION:Hula Grill Waikiki\, 2335 Kalakaua Ave #203\, Honolulu\, HI\, 96815\, United States
CATEGORIES:Live Entertainment,Weekly Events
ATTACH;FMTTYPE=image/jpeg:https://www.hulagrillwaikiki.com/wp-content/uploads/2024/07/jefferson-santos-fCEJGBzAkrU-unsplash-scaled.jpg
END:VEVENT
BEGIN:VEVENT
DTSTART;TZID=Pacific/Honolulu:20251126T140000
DTEND;TZID=Pacific/Honolulu:20251126T160000
DTSTAMP:20260419T042656
CREATED:20251103T220024Z
LAST-MODIFIED:20251103T220024Z
UID:6617-1764165600-1764172800@www.hulagrillwaikiki.com
SUMMARY:Live Music: Ronson Asuncion
DESCRIPTION:Join us for live music by Ronson Asuncion every Wednesday from 2:00pm – 4:00pm.
URL:https://www.hulagrillwaikiki.com/event/live-music-ronson-asuncion-25/
LOCATION:Hula Grill Waikiki\, 2335 Kalakaua Ave #203\, Honolulu\, HI\, 96815\, United States
CATEGORIES:Live Entertainment,Weekly Events
ATTACH;FMTTYPE=image/jpeg:https://www.hulagrillwaikiki.com/wp-content/uploads/2024/07/iStock-1190645702.jpg
END:VEVENT
BEGIN:VEVENT
DTSTART;TZID=Pacific/Honolulu:20251125T140000
DTEND;TZID=Pacific/Honolulu:20251125T160000
DTSTAMP:20260419T042656
CREATED:20251103T215701Z
LAST-MODIFIED:20251103T223524Z
UID:6613-1764079200-1764086400@www.hulagrillwaikiki.com
SUMMARY:Live Music: Kawika Kahiapo
DESCRIPTION:Join us for live music by Kawika Kahiapo every Tuesday from 2:00pm – 4:00pm.
URL:https://www.hulagrillwaikiki.com/event/live-music-kawika-kahiapo-25/
LOCATION:Hula Grill Waikiki\, 2335 Kalakaua Ave #203\, Honolulu\, HI\, 96815\, United States
CATEGORIES:Live Entertainment,Weekly Events
ATTACH;FMTTYPE=image/jpeg:https://www.hulagrillwaikiki.com/wp-content/uploads/2024/07/iStock-1263105417.jpg
END:VEVENT
BEGIN:VEVENT
DTSTART;TZID=Pacific/Honolulu:20251124T140000
DTEND;TZID=Pacific/Honolulu:20251124T160000
DTSTAMP:20260419T042656
CREATED:20251103T223030Z
LAST-MODIFIED:20251103T223030Z
UID:6632-1763992800-1764000000@www.hulagrillwaikiki.com
SUMMARY:Live Music: Keoni Ku
DESCRIPTION:Join us for live music by Keoni Ku on Monday\, November 24\, 2025 from 2:00pm – 4:00pm.
URL:https://www.hulagrillwaikiki.com/event/live-music-keoni-ku-2/
LOCATION:Hula Grill Waikiki\, 2335 Kalakaua Ave #203\, Honolulu\, HI\, 96815\, United States
CATEGORIES:Live Entertainment,Weekly Events
ATTACH;FMTTYPE=image/jpeg:https://www.hulagrillwaikiki.com/wp-content/uploads/2024/07/jefferson-santos-fCEJGBzAkrU-unsplash-scaled.jpg
END:VEVENT
BEGIN:VEVENT
DTSTART;TZID=Pacific/Honolulu:20251123T140000
DTEND;TZID=Pacific/Honolulu:20251123T160000
DTSTAMP:20260419T042656
CREATED:20251103T222246Z
LAST-MODIFIED:20251103T222246Z
UID:6629-1763906400-1763913600@www.hulagrillwaikiki.com
SUMMARY:Live Music: Ben Kama Accompanied by a Hula Performance
DESCRIPTION:Join us for live music by Ben Kama\, accompanied by a Hula Performance on Sunday\, November 23\, 2025\, from 2:00pm – 4:00pm.
URL:https://www.hulagrillwaikiki.com/event/live-music-ben-kama-accompanied-by-a-hula-performance/
LOCATION:Hula Grill Waikiki\, 2335 Kalakaua Ave #203\, Honolulu\, HI\, 96815\, United States
CATEGORIES:Live Entertainment,Weekly Events
ATTACH;FMTTYPE=image/jpeg:https://www.hulagrillwaikiki.com/wp-content/uploads/2024/07/iStock-1190645702.jpg
END:VEVENT
BEGIN:VEVENT
DTSTART;TZID=Pacific/Honolulu:20251122T140000
DTEND;TZID=Pacific/Honolulu:20251122T160000
DTSTAMP:20260419T042656
CREATED:20251103T223216Z
LAST-MODIFIED:20251103T223216Z
UID:6634-1763820000-1763827200@www.hulagrillwaikiki.com
SUMMARY:Live Music: Stephen Inglis
DESCRIPTION:Join us for live music by Stephen Inglis on Saturday\, November 22\, 2025\, from 2:00pm – 4:00pm.
URL:https://www.hulagrillwaikiki.com/event/live-music-stephen-inglis-3/
LOCATION:Hula Grill Waikiki\, 2335 Kalakaua Ave #203\, Honolulu\, HI\, 96815\, United States
CATEGORIES:Live Entertainment,Weekly Events
ATTACH;FMTTYPE=image/jpeg:https://www.hulagrillwaikiki.com/wp-content/uploads/2024/07/iStock-1263105417.jpg
END:VEVENT
BEGIN:VEVENT
DTSTART;TZID=Pacific/Honolulu:20251121T140000
DTEND;TZID=Pacific/Honolulu:20251121T160000
DTSTAMP:20260419T042656
CREATED:20251103T221711Z
LAST-MODIFIED:20251103T221711Z
UID:6624-1763733600-1763740800@www.hulagrillwaikiki.com
SUMMARY:Live Music: Randy Allen
DESCRIPTION:Join us for live music by Randy Allen every Friday from 2:00pm – 4:00pm.
URL:https://www.hulagrillwaikiki.com/event/live-music-randy-allen-27/
LOCATION:Hula Grill Waikiki\, 2335 Kalakaua Ave #203\, Honolulu\, HI\, 96815\, United States
CATEGORIES:Live Entertainment,Weekly Events
ATTACH;FMTTYPE=image/jpeg:https://www.hulagrillwaikiki.com/wp-content/uploads/2024/07/jefferson-santos-fCEJGBzAkrU-unsplash-scaled.jpg
END:VEVENT
BEGIN:VEVENT
DTSTART;TZID=Pacific/Honolulu:20251120T140000
DTEND;TZID=Pacific/Honolulu:20251120T160000
DTSTAMP:20260419T042656
CREATED:20251103T221339Z
LAST-MODIFIED:20251103T221339Z
UID:6620-1763647200-1763654400@www.hulagrillwaikiki.com
SUMMARY:Live Music: Yoza
DESCRIPTION:Join us for live music by Yoza every Thursday from 2:00pm – 4:00pm.
URL:https://www.hulagrillwaikiki.com/event/live-music-yoza-25/
LOCATION:Hula Grill Waikiki\, 2335 Kalakaua Ave #203\, Honolulu\, HI\, 96815\, United States
CATEGORIES:Live Entertainment,Weekly Events
ATTACH;FMTTYPE=image/jpeg:https://www.hulagrillwaikiki.com/wp-content/uploads/2024/07/iStock-1190645702.jpg
END:VEVENT
BEGIN:VEVENT
DTSTART;TZID=Pacific/Honolulu:20251119T140000
DTEND;TZID=Pacific/Honolulu:20251119T160000
DTSTAMP:20260419T042656
CREATED:20251103T215931Z
LAST-MODIFIED:20251103T215931Z
UID:6616-1763560800-1763568000@www.hulagrillwaikiki.com
SUMMARY:Live Music: Ronson Asuncion
DESCRIPTION:Join us for live music by Ronson Asuncion every Wednesday from 2:00pm – 4:00pm.
URL:https://www.hulagrillwaikiki.com/event/live-music-ronson-asuncion-24/
LOCATION:Hula Grill Waikiki\, 2335 Kalakaua Ave #203\, Honolulu\, HI\, 96815\, United States
CATEGORIES:Live Entertainment,Weekly Events
ATTACH;FMTTYPE=image/jpeg:https://www.hulagrillwaikiki.com/wp-content/uploads/2024/07/iStock-1263105417.jpg
END:VEVENT
BEGIN:VEVENT
DTSTART;TZID=Pacific/Honolulu:20251118T140000
DTEND;TZID=Pacific/Honolulu:20251118T160000
DTSTAMP:20260419T042656
CREATED:20251103T215620Z
LAST-MODIFIED:20251103T223432Z
UID:6612-1763474400-1763481600@www.hulagrillwaikiki.com
SUMMARY:Live Music: Kawika Kahiapo
DESCRIPTION:Join us for live music by Kawika Kahiapo every Tuesday from 2:00pm – 4:00pm.
URL:https://www.hulagrillwaikiki.com/event/live-music-kawika-kahiapo-24/
LOCATION:Hula Grill Waikiki\, 2335 Kalakaua Ave #203\, Honolulu\, HI\, 96815\, United States
CATEGORIES:Live Entertainment,Weekly Events
ATTACH;FMTTYPE=image/jpeg:https://www.hulagrillwaikiki.com/wp-content/uploads/2024/07/jefferson-santos-fCEJGBzAkrU-unsplash-scaled.jpg
END:VEVENT
END:VCALENDAR