BEGIN:VCALENDAR
VERSION:2.0
PRODID:-//Hula Grill Waikiki - ECPv6.15.20//NONSGML v1.0//EN
CALSCALE:GREGORIAN
METHOD:PUBLISH
X-WR-CALNAME:Hula Grill Waikiki
X-ORIGINAL-URL:https://www.hulagrillwaikiki.com
X-WR-CALDESC:Events for Hula Grill Waikiki
REFRESH-INTERVAL;VALUE=DURATION:PT1H
X-Robots-Tag:noindex
X-PUBLISHED-TTL:PT1H
BEGIN:VTIMEZONE
TZID:Pacific/Honolulu
BEGIN:STANDARD
TZOFFSETFROM:-1000
TZOFFSETTO:-1000
TZNAME:HST
DTSTART:20240101T000000
END:STANDARD
END:VTIMEZONE
BEGIN:VEVENT
DTSTART;TZID=Pacific/Honolulu:20250621T120000
DTEND;TZID=Pacific/Honolulu:20250621T140000
DTSTAMP:20260423T175412
CREATED:20250603T233621Z
LAST-MODIFIED:20250603T233621Z
UID:6531-1750507200-1750514400@www.hulagrillwaikiki.com
SUMMARY:Live Music: Walt Keale
DESCRIPTION:Join us for live music by Walt Keale on Saturday\, June 21\, from 12:00pm – 2:00pm.
URL:https://www.hulagrillwaikiki.com/event/live-music-walt-keale-7/
LOCATION:Hula Grill Waikiki\, 2335 Kalakaua Ave #203\, Honolulu\, HI\, 96815\, United States
CATEGORIES:Live Entertainment
ATTACH;FMTTYPE=image/jpeg:https://www.hulagrillwaikiki.com/wp-content/uploads/2024/07/iStock-1263105417.jpg
END:VEVENT
BEGIN:VEVENT
DTSTART;TZID=Pacific/Honolulu:20250620T120000
DTEND;TZID=Pacific/Honolulu:20250620T140000
DTSTAMP:20260423T175412
CREATED:20250603T233529Z
LAST-MODIFIED:20250603T233529Z
UID:6530-1750420800-1750428000@www.hulagrillwaikiki.com
SUMMARY:Live Music: Randy Allen
DESCRIPTION:Join us for live music by Randy Allen on Friday\, June 20\, from 12:00pm – 2:00pm.
URL:https://www.hulagrillwaikiki.com/event/live-music-randy-allen-16/
LOCATION:Hula Grill Waikiki\, 2335 Kalakaua Ave #203\, Honolulu\, HI\, 96815\, United States
CATEGORIES:Live Entertainment
ATTACH;FMTTYPE=image/jpeg:https://www.hulagrillwaikiki.com/wp-content/uploads/2024/07/jefferson-santos-fCEJGBzAkrU-unsplash-scaled.jpg
END:VEVENT
BEGIN:VEVENT
DTSTART;TZID=Pacific/Honolulu:20250619T120000
DTEND;TZID=Pacific/Honolulu:20250619T140000
DTSTAMP:20260423T175412
CREATED:20250603T232517Z
LAST-MODIFIED:20250603T232517Z
UID:6529-1750334400-1750341600@www.hulagrillwaikiki.com
SUMMARY:Live Music: Yoza
DESCRIPTION:Join us for live music by Yoza on Thursday\, June 19\, from 12:00pm – 2:00pm.
URL:https://www.hulagrillwaikiki.com/event/live-music-yoza-12/
LOCATION:Hula Grill Waikiki\, 2335 Kalakaua Ave #203\, Honolulu\, HI\, 96815\, United States
CATEGORIES:Live Entertainment
ATTACH;FMTTYPE=image/jpeg:https://www.hulagrillwaikiki.com/wp-content/uploads/2024/07/iStock-1190645702.jpg
END:VEVENT
BEGIN:VEVENT
DTSTART;TZID=Pacific/Honolulu:20250618T120000
DTEND;TZID=Pacific/Honolulu:20250618T140000
DTSTAMP:20260423T175412
CREATED:20250603T232424Z
LAST-MODIFIED:20250603T232424Z
UID:6528-1750248000-1750255200@www.hulagrillwaikiki.com
SUMMARY:Live Music: Kahiau Lam Ho
DESCRIPTION:Join us for live music by Kahiau Lam Ho on Wednesday\, June 18\, from 12:00pm – 2:00pm.
URL:https://www.hulagrillwaikiki.com/event/live-music-kahiau-lam-ho-3/
LOCATION:Hula Grill Waikiki\, 2335 Kalakaua Ave #203\, Honolulu\, HI\, 96815\, United States
CATEGORIES:Live Entertainment
ATTACH;FMTTYPE=image/jpeg:https://www.hulagrillwaikiki.com/wp-content/uploads/2024/07/iStock-1263105417.jpg
END:VEVENT
BEGIN:VEVENT
DTSTART;TZID=Pacific/Honolulu:20250617T120000
DTEND;TZID=Pacific/Honolulu:20250617T140000
DTSTAMP:20260423T175412
CREATED:20250603T232326Z
LAST-MODIFIED:20250603T232326Z
UID:6527-1750161600-1750168800@www.hulagrillwaikiki.com
SUMMARY:Live Music: Kawika Kahiapo
DESCRIPTION:Join us for live music by Kawika Kahiapo on Tuesday\, June 17\, from 12:00pm – 2:00pm.
URL:https://www.hulagrillwaikiki.com/event/live-music-kawika-kahiapo-12/
LOCATION:Hula Grill Waikiki\, 2335 Kalakaua Ave #203\, Honolulu\, HI\, 96815\, United States
CATEGORIES:Live Entertainment
ATTACH;FMTTYPE=image/jpeg:https://www.hulagrillwaikiki.com/wp-content/uploads/2024/07/jefferson-santos-fCEJGBzAkrU-unsplash-scaled.jpg
END:VEVENT
BEGIN:VEVENT
DTSTART;TZID=Pacific/Honolulu:20250616T120000
DTEND;TZID=Pacific/Honolulu:20250616T140000
DTSTAMP:20260423T175412
CREATED:20250603T232240Z
LAST-MODIFIED:20250603T232240Z
UID:6526-1750075200-1750082400@www.hulagrillwaikiki.com
SUMMARY:Live Music: Ben Kama
DESCRIPTION:Join us for live music by Ben Kama on Monday\, June 16\, from 12:00pm – 2:00pm.
URL:https://www.hulagrillwaikiki.com/event/live-music-ben-kama-8/
LOCATION:Hula Grill Waikiki\, 2335 Kalakaua Ave #203\, Honolulu\, HI\, 96815\, United States
CATEGORIES:Live Entertainment
ATTACH;FMTTYPE=image/jpeg:https://www.hulagrillwaikiki.com/wp-content/uploads/2024/07/iStock-1190645702.jpg
END:VEVENT
BEGIN:VEVENT
DTSTART;TZID=Pacific/Honolulu:20250615T120000
DTEND;TZID=Pacific/Honolulu:20250615T140000
DTSTAMP:20260423T175412
CREATED:20250603T232158Z
LAST-MODIFIED:20250603T232158Z
UID:6525-1749988800-1749996000@www.hulagrillwaikiki.com
SUMMARY:Live Music: Jason Midro Accompanied by a Hula Performance
DESCRIPTION:Join us for live music by Jason Midro accompanied by a hula performance on Sunday\, June 15\, from 12:00pm – 2:00pm.
URL:https://www.hulagrillwaikiki.com/event/live-music-jason-midro-accompanied-by-a-hula-performance-3/
LOCATION:Hula Grill Waikiki\, 2335 Kalakaua Ave #203\, Honolulu\, HI\, 96815\, United States
CATEGORIES:Live Entertainment
ATTACH;FMTTYPE=image/jpeg:https://www.hulagrillwaikiki.com/wp-content/uploads/2024/07/iStock-1263105417.jpg
END:VEVENT
BEGIN:VEVENT
DTSTART;TZID=Pacific/Honolulu:20250614T120000
DTEND;TZID=Pacific/Honolulu:20250614T140000
DTSTAMP:20260423T175412
CREATED:20250603T232041Z
LAST-MODIFIED:20250603T232041Z
UID:6524-1749902400-1749909600@www.hulagrillwaikiki.com
SUMMARY:Live Music: Kamaka Camarillo
DESCRIPTION:Join us for live music by Kamaka Camarillo on Saturday\, June 14\, from 12:00pm – 2:00pm.
URL:https://www.hulagrillwaikiki.com/event/live-music-kamaka-camarillo-5/
LOCATION:Hula Grill Waikiki\, 2335 Kalakaua Ave #203\, Honolulu\, HI\, 96815\, United States
CATEGORIES:Live Entertainment
ATTACH;FMTTYPE=image/jpeg:https://www.hulagrillwaikiki.com/wp-content/uploads/2024/07/jefferson-santos-fCEJGBzAkrU-unsplash-scaled.jpg
END:VEVENT
BEGIN:VEVENT
DTSTART;TZID=Pacific/Honolulu:20250613T120000
DTEND;TZID=Pacific/Honolulu:20250613T140000
DTSTAMP:20260423T175412
CREATED:20250603T231958Z
LAST-MODIFIED:20250603T231958Z
UID:6523-1749816000-1749823200@www.hulagrillwaikiki.com
SUMMARY:Live Music: Yoza
DESCRIPTION:Join us for live music by Yoza on Friday\, June 13\, from 12:00pm – 2:00pm.
URL:https://www.hulagrillwaikiki.com/event/live-music-yoza-11/
LOCATION:Hula Grill Waikiki\, 2335 Kalakaua Ave #203\, Honolulu\, HI\, 96815\, United States
CATEGORIES:Live Entertainment
ATTACH;FMTTYPE=image/jpeg:https://www.hulagrillwaikiki.com/wp-content/uploads/2024/07/iStock-1190645702.jpg
END:VEVENT
BEGIN:VEVENT
DTSTART;TZID=Pacific/Honolulu:20250612T120000
DTEND;TZID=Pacific/Honolulu:20250612T140000
DTSTAMP:20260423T175412
CREATED:20250603T231909Z
LAST-MODIFIED:20250603T231909Z
UID:6522-1749729600-1749736800@www.hulagrillwaikiki.com
SUMMARY:Live Music: Randy Allen
DESCRIPTION:Join us for live music by Randy Allen on Thursday\, June 12\, from 12:00pm – 2:00pm.
URL:https://www.hulagrillwaikiki.com/event/live-music-randy-allen-15/
LOCATION:Hula Grill Waikiki\, 2335 Kalakaua Ave #203\, Honolulu\, HI\, 96815\, United States
CATEGORIES:Live Entertainment
ATTACH;FMTTYPE=image/jpeg:https://www.hulagrillwaikiki.com/wp-content/uploads/2024/07/iStock-1263105417.jpg
END:VEVENT
BEGIN:VEVENT
DTSTART;TZID=Pacific/Honolulu:20250611T120000
DTEND;TZID=Pacific/Honolulu:20250611T140000
DTSTAMP:20260423T175412
CREATED:20250603T231829Z
LAST-MODIFIED:20250603T231829Z
UID:6521-1749643200-1749650400@www.hulagrillwaikiki.com
SUMMARY:Live Music: Ronson Asuncion
DESCRIPTION:Join us for live music by Ronson Asuncion on Wednesday\, June 11\, from 12:00pm – 2:00pm.
URL:https://www.hulagrillwaikiki.com/event/live-music-ronson-asuncion-12/
LOCATION:Hula Grill Waikiki\, 2335 Kalakaua Ave #203\, Honolulu\, HI\, 96815\, United States
CATEGORIES:Live Entertainment
ATTACH;FMTTYPE=image/jpeg:https://www.hulagrillwaikiki.com/wp-content/uploads/2024/07/jefferson-santos-fCEJGBzAkrU-unsplash-scaled.jpg
END:VEVENT
BEGIN:VEVENT
DTSTART;TZID=Pacific/Honolulu:20250610T120000
DTEND;TZID=Pacific/Honolulu:20250610T140000
DTSTAMP:20260423T175412
CREATED:20250603T231746Z
LAST-MODIFIED:20250603T231746Z
UID:6520-1749556800-1749564000@www.hulagrillwaikiki.com
SUMMARY:Live Music: Kawika Kahiapo
DESCRIPTION:Join us for live music by Kawika Kahiapo on Tuesday\, June 10\, from 12:00pm – 2:00pm.
URL:https://www.hulagrillwaikiki.com/event/live-music-kawika-kahiapo-11/
LOCATION:Hula Grill Waikiki\, 2335 Kalakaua Ave #203\, Honolulu\, HI\, 96815\, United States
CATEGORIES:Live Entertainment
ATTACH;FMTTYPE=image/jpeg:https://www.hulagrillwaikiki.com/wp-content/uploads/2024/07/iStock-1190645702.jpg
END:VEVENT
BEGIN:VEVENT
DTSTART;TZID=Pacific/Honolulu:20250609T120000
DTEND;TZID=Pacific/Honolulu:20250609T140000
DTSTAMP:20260423T175412
CREATED:20250603T231658Z
LAST-MODIFIED:20250603T231658Z
UID:6519-1749470400-1749477600@www.hulagrillwaikiki.com
SUMMARY:Live Music: Kahiau Lam Ho
DESCRIPTION:Join us for live music by Kahiau Lam Ho on Monday\, June 9\, from 12:00pm – 2:00pm.
URL:https://www.hulagrillwaikiki.com/event/live-music-kahiau-lam-ho-2/
LOCATION:Hula Grill Waikiki\, 2335 Kalakaua Ave #203\, Honolulu\, HI\, 96815\, United States
CATEGORIES:Live Entertainment
ATTACH;FMTTYPE=image/jpeg:https://www.hulagrillwaikiki.com/wp-content/uploads/2024/07/iStock-1263105417.jpg
END:VEVENT
BEGIN:VEVENT
DTSTART;TZID=Pacific/Honolulu:20250608T120000
DTEND;TZID=Pacific/Honolulu:20250608T140000
DTSTAMP:20260423T175412
CREATED:20250603T230610Z
LAST-MODIFIED:20250603T230610Z
UID:6518-1749384000-1749391200@www.hulagrillwaikiki.com
SUMMARY:Live Music: Keoni Ku with Hula
DESCRIPTION:Join us for live music by Keoni Ku accompanied by a hula performance on Sunday\, June 8\, from 12:00pm – 2:00pm.
URL:https://www.hulagrillwaikiki.com/event/live-music-keoni-ku-with-hula-2/
LOCATION:Hula Grill Waikiki\, 2335 Kalakaua Ave #203\, Honolulu\, HI\, 96815\, United States
CATEGORIES:Live Entertainment
ATTACH;FMTTYPE=image/jpeg:https://www.hulagrillwaikiki.com/wp-content/uploads/2024/07/jefferson-santos-fCEJGBzAkrU-unsplash-scaled.jpg
END:VEVENT
BEGIN:VEVENT
DTSTART;TZID=Pacific/Honolulu:20250607T120000
DTEND;TZID=Pacific/Honolulu:20250607T140000
DTSTAMP:20260423T175412
CREATED:20250603T230501Z
LAST-MODIFIED:20250603T230501Z
UID:6517-1749297600-1749304800@www.hulagrillwaikiki.com
SUMMARY:Live Music: Paul Dunlap
DESCRIPTION:Join us for live music by Paul Dunlap on Saturday\, June 7\, from 12:00pm – 2:00pm.
URL:https://www.hulagrillwaikiki.com/event/live-music-paul-dunlap-2/
LOCATION:Hula Grill Waikiki\, 2335 Kalakaua Ave #203\, Honolulu\, HI\, 96815\, United States
CATEGORIES:Live Entertainment
ATTACH;FMTTYPE=image/jpeg:https://www.hulagrillwaikiki.com/wp-content/uploads/2024/07/iStock-1190645702.jpg
END:VEVENT
BEGIN:VEVENT
DTSTART;TZID=Pacific/Honolulu:20250605T120000
DTEND;TZID=Pacific/Honolulu:20250605T140000
DTSTAMP:20260423T175412
CREATED:20250603T230405Z
LAST-MODIFIED:20250603T230405Z
UID:6516-1749124800-1749132000@www.hulagrillwaikiki.com
SUMMARY:Live Music: Yoza
DESCRIPTION:Join us for live music by Yoza on Thursday\, June 5\, from 12:00pm – 2:00pm.
URL:https://www.hulagrillwaikiki.com/event/live-music-yoza-10/
LOCATION:Hula Grill Waikiki\, 2335 Kalakaua Ave #203\, Honolulu\, HI\, 96815\, United States
CATEGORIES:Live Entertainment
ATTACH;FMTTYPE=image/jpeg:https://www.hulagrillwaikiki.com/wp-content/uploads/2024/07/iStock-1263105417.jpg
END:VEVENT
BEGIN:VEVENT
DTSTART;TZID=Pacific/Honolulu:20250604T120000
DTEND;TZID=Pacific/Honolulu:20250604T140000
DTSTAMP:20260423T175412
CREATED:20250603T230321Z
LAST-MODIFIED:20250603T230321Z
UID:6515-1749038400-1749045600@www.hulagrillwaikiki.com
SUMMARY:Live Music: Ronson Asuncion
DESCRIPTION:Join us for live music by Ronson Asuncion on Wednesday\, June 4\, from 12:00pm – 2:00pm.
URL:https://www.hulagrillwaikiki.com/event/live-music-ronson-asuncion-11/
LOCATION:Hula Grill Waikiki\, 2335 Kalakaua Ave #203\, Honolulu\, HI\, 96815\, United States
CATEGORIES:Live Entertainment
ATTACH;FMTTYPE=image/jpeg:https://www.hulagrillwaikiki.com/wp-content/uploads/2024/07/jefferson-santos-fCEJGBzAkrU-unsplash-scaled.jpg
END:VEVENT
BEGIN:VEVENT
DTSTART;TZID=Pacific/Honolulu:20250531T120000
DTEND;TZID=Pacific/Honolulu:20250531T140000
DTSTAMP:20260423T175412
CREATED:20250501T043438Z
LAST-MODIFIED:20250501T043438Z
UID:6505-1748692800-1748700000@www.hulagrillwaikiki.com
SUMMARY:Live Music: Walt Keale
DESCRIPTION:Join us for live music by Walt Keale on Saturday\, May 31\, from 12:00pm – 2:00pm.
URL:https://www.hulagrillwaikiki.com/event/live-music-walt-keale-6/
LOCATION:Hula Grill Waikiki\, 2335 Kalakaua Ave #203\, Honolulu\, HI\, 96815\, United States
CATEGORIES:Live Entertainment
ATTACH;FMTTYPE=image/jpeg:https://www.hulagrillwaikiki.com/wp-content/uploads/2024/07/iStock-1190645702.jpg
END:VEVENT
BEGIN:VEVENT
DTSTART;TZID=Pacific/Honolulu:20250530T120000
DTEND;TZID=Pacific/Honolulu:20250530T140000
DTSTAMP:20260423T175412
CREATED:20250501T043341Z
LAST-MODIFIED:20250501T043341Z
UID:6504-1748606400-1748613600@www.hulagrillwaikiki.com
SUMMARY:Live Music: Randy Allen
DESCRIPTION:Join us for live music by Randy Allen on Friday\, May 30\, from 12:00pm – 2:00pm.
URL:https://www.hulagrillwaikiki.com/event/live-music-randy-allen-14/
LOCATION:Hula Grill Waikiki\, 2335 Kalakaua Ave #203\, Honolulu\, HI\, 96815\, United States
CATEGORIES:Live Entertainment
ATTACH;FMTTYPE=image/jpeg:https://www.hulagrillwaikiki.com/wp-content/uploads/2024/07/jefferson-santos-fCEJGBzAkrU-unsplash-scaled.jpg
END:VEVENT
BEGIN:VEVENT
DTSTART;TZID=Pacific/Honolulu:20250529T120000
DTEND;TZID=Pacific/Honolulu:20250529T140000
DTSTAMP:20260423T175412
CREATED:20250501T043248Z
LAST-MODIFIED:20250501T043248Z
UID:6503-1748520000-1748527200@www.hulagrillwaikiki.com
SUMMARY:Live Music: Yoza
DESCRIPTION:Join us for live music by Yoza on Thursday\, May 29\, from 12:00pm – 2:00pm.
URL:https://www.hulagrillwaikiki.com/event/live-music-yoza-9/
LOCATION:Hula Grill Waikiki\, 2335 Kalakaua Ave #203\, Honolulu\, HI\, 96815\, United States
CATEGORIES:Live Entertainment
ATTACH;FMTTYPE=image/jpeg:https://www.hulagrillwaikiki.com/wp-content/uploads/2024/07/iStock-1263105417.jpg
END:VEVENT
BEGIN:VEVENT
DTSTART;TZID=Pacific/Honolulu:20250528T120000
DTEND;TZID=Pacific/Honolulu:20250528T140000
DTSTAMP:20260423T175412
CREATED:20250501T043139Z
LAST-MODIFIED:20250501T043139Z
UID:6502-1748433600-1748440800@www.hulagrillwaikiki.com
SUMMARY:Live Music: Ronson Asuncion
DESCRIPTION:Join us for live music by Ronson Asuncion on Wednesady\, May 28\, from 12:00pm – 2:00pm.
URL:https://www.hulagrillwaikiki.com/event/live-music-ronson-asuncion-10/
LOCATION:Hula Grill Waikiki\, 2335 Kalakaua Ave #203\, Honolulu\, HI\, 96815\, United States
CATEGORIES:Live Entertainment
ATTACH;FMTTYPE=image/jpeg:https://www.hulagrillwaikiki.com/wp-content/uploads/2024/07/iStock-1190645702.jpg
END:VEVENT
BEGIN:VEVENT
DTSTART;TZID=Pacific/Honolulu:20250527T120000
DTEND;TZID=Pacific/Honolulu:20250527T140000
DTSTAMP:20260423T175412
CREATED:20250501T043013Z
LAST-MODIFIED:20250501T043013Z
UID:6501-1748347200-1748354400@www.hulagrillwaikiki.com
SUMMARY:Live Music: Kawika Kahiapo
DESCRIPTION:Join us for live music by Kawika Kahiapo on Tuesday\, May 27\, from 12:00pm – 2:00pm.
URL:https://www.hulagrillwaikiki.com/event/live-music-kawika-kahiapo-10/
LOCATION:Hula Grill Waikiki\, 2335 Kalakaua Ave #203\, Honolulu\, HI\, 96815\, United States
CATEGORIES:Live Entertainment
ATTACH;FMTTYPE=image/jpeg:https://www.hulagrillwaikiki.com/wp-content/uploads/2024/07/jefferson-santos-fCEJGBzAkrU-unsplash-scaled.jpg
END:VEVENT
BEGIN:VEVENT
DTSTART;TZID=Pacific/Honolulu:20250526T120000
DTEND;TZID=Pacific/Honolulu:20250526T140000
DTSTAMP:20260423T175412
CREATED:20250501T042851Z
LAST-MODIFIED:20250501T042851Z
UID:6500-1748260800-1748268000@www.hulagrillwaikiki.com
SUMMARY:Live Music: Ben Kama
DESCRIPTION:Join us for live music by Ben Kama on Monday\, May 26\, from 12:00pm – 2:00pm.
URL:https://www.hulagrillwaikiki.com/event/live-music-ben-kama-7/
LOCATION:Hula Grill Waikiki\, 2335 Kalakaua Ave #203\, Honolulu\, HI\, 96815\, United States
CATEGORIES:Live Entertainment
ATTACH;FMTTYPE=image/jpeg:https://www.hulagrillwaikiki.com/wp-content/uploads/2024/07/iStock-1263105417.jpg
END:VEVENT
BEGIN:VEVENT
DTSTART;TZID=Pacific/Honolulu:20250525T120000
DTEND;TZID=Pacific/Honolulu:20250525T140000
DTSTAMP:20260423T175412
CREATED:20250501T042803Z
LAST-MODIFIED:20250501T042803Z
UID:6499-1748174400-1748181600@www.hulagrillwaikiki.com
SUMMARY:Live Music: Jason Midro Accompanied by a Hula Performance
DESCRIPTION:Join us for live music by Jason Midro accompanied by a hula performance on Sunday\, May 25\, from 12:00pm – 2:00pm.
URL:https://www.hulagrillwaikiki.com/event/live-music-jason-midro-accompanied-by-a-hula-performance-2/
LOCATION:Hula Grill Waikiki\, 2335 Kalakaua Ave #203\, Honolulu\, HI\, 96815\, United States
CATEGORIES:Live Entertainment
ATTACH;FMTTYPE=image/jpeg:https://www.hulagrillwaikiki.com/wp-content/uploads/2024/07/iStock-1190645702.jpg
END:VEVENT
BEGIN:VEVENT
DTSTART;TZID=Pacific/Honolulu:20250524T120000
DTEND;TZID=Pacific/Honolulu:20250524T140000
DTSTAMP:20260423T175412
CREATED:20250501T042618Z
LAST-MODIFIED:20250501T042618Z
UID:6498-1748088000-1748095200@www.hulagrillwaikiki.com
SUMMARY:Live Music: Kamaka Camarillo
DESCRIPTION:Join us for live music by Kamaka Camarillo on Saturday\, May 24\, from 12:00pm – 2:00pm.
URL:https://www.hulagrillwaikiki.com/event/live-music-kamaka-camarillo-4/
LOCATION:Hula Grill Waikiki\, 2335 Kalakaua Ave #203\, Honolulu\, HI\, 96815\, United States
CATEGORIES:Live Entertainment
ATTACH;FMTTYPE=image/jpeg:https://www.hulagrillwaikiki.com/wp-content/uploads/2024/07/jefferson-santos-fCEJGBzAkrU-unsplash-scaled.jpg
END:VEVENT
BEGIN:VEVENT
DTSTART;TZID=Pacific/Honolulu:20250523T120000
DTEND;TZID=Pacific/Honolulu:20250523T140000
DTSTAMP:20260423T175412
CREATED:20250501T042518Z
LAST-MODIFIED:20250501T042518Z
UID:6497-1748001600-1748008800@www.hulagrillwaikiki.com
SUMMARY:Live Music: Randy Allen
DESCRIPTION:Join us for live music by Randy Allen on Friday\, May 23\, from 12:00pm – 2:00pm.
URL:https://www.hulagrillwaikiki.com/event/live-music-randy-allen-13/
LOCATION:Hula Grill Waikiki\, 2335 Kalakaua Ave #203\, Honolulu\, HI\, 96815\, United States
CATEGORIES:Live Entertainment
ATTACH;FMTTYPE=image/jpeg:https://www.hulagrillwaikiki.com/wp-content/uploads/2024/07/iStock-1263105417.jpg
END:VEVENT
BEGIN:VEVENT
DTSTART;TZID=Pacific/Honolulu:20250522T120000
DTEND;TZID=Pacific/Honolulu:20250522T140000
DTSTAMP:20260423T175412
CREATED:20250501T042420Z
LAST-MODIFIED:20250501T042420Z
UID:6496-1747915200-1747922400@www.hulagrillwaikiki.com
SUMMARY:Live Music: Yoza
DESCRIPTION:Join us for live music by Yoza on Thursday\, May 22\, from 12:00pm – 2:00pm.
URL:https://www.hulagrillwaikiki.com/event/live-music-yoza-8/
LOCATION:Hula Grill Waikiki\, 2335 Kalakaua Ave #203\, Honolulu\, HI\, 96815\, United States
CATEGORIES:Live Entertainment
ATTACH;FMTTYPE=image/jpeg:https://www.hulagrillwaikiki.com/wp-content/uploads/2024/07/jefferson-santos-fCEJGBzAkrU-unsplash-scaled.jpg
END:VEVENT
BEGIN:VEVENT
DTSTART;TZID=Pacific/Honolulu:20250521T120000
DTEND;TZID=Pacific/Honolulu:20250521T140000
DTSTAMP:20260423T175412
CREATED:20250501T042334Z
LAST-MODIFIED:20250501T042334Z
UID:6495-1747828800-1747836000@www.hulagrillwaikiki.com
SUMMARY:Live Music: Ronson Asuncion
DESCRIPTION:Join us for live music by Ronson Asuncion on Wednesday\, May 21\, from 12:00pm – 2:00pm.
URL:https://www.hulagrillwaikiki.com/event/live-music-ronson-asuncion-9/
LOCATION:Hula Grill Waikiki\, 2335 Kalakaua Ave #203\, Honolulu\, HI\, 96815\, United States
CATEGORIES:Live Entertainment
ATTACH;FMTTYPE=image/jpeg:https://www.hulagrillwaikiki.com/wp-content/uploads/2024/07/iStock-1263105417.jpg
END:VEVENT
BEGIN:VEVENT
DTSTART;TZID=Pacific/Honolulu:20250520T120000
DTEND;TZID=Pacific/Honolulu:20250520T140000
DTSTAMP:20260423T175412
CREATED:20250501T042236Z
LAST-MODIFIED:20250501T042236Z
UID:6494-1747742400-1747749600@www.hulagrillwaikiki.com
SUMMARY:Live Music: Kawika Kahiapo
DESCRIPTION:Join us for live music by Kawika Kahiapo on Tuesday\, May 20\, from 12:00pm – 2:00pm.
URL:https://www.hulagrillwaikiki.com/event/live-music-kawika-kahiapo-9/
LOCATION:Hula Grill Waikiki\, 2335 Kalakaua Ave #203\, Honolulu\, HI\, 96815\, United States
CATEGORIES:Live Entertainment
ATTACH;FMTTYPE=image/jpeg:https://www.hulagrillwaikiki.com/wp-content/uploads/2024/07/iStock-1190645702.jpg
END:VEVENT
BEGIN:VEVENT
DTSTART;TZID=Pacific/Honolulu:20250519T120000
DTEND;TZID=Pacific/Honolulu:20250519T140000
DTSTAMP:20260423T175412
CREATED:20250501T042048Z
LAST-MODIFIED:20250501T042048Z
UID:6493-1747656000-1747663200@www.hulagrillwaikiki.com
SUMMARY:Live Music: Ben Kama
DESCRIPTION:Join us for live music by Ben Kama on Monday\, May 19\, from 12:00pm – 2:00pm.
URL:https://www.hulagrillwaikiki.com/event/live-music-ben-kama-6/
LOCATION:Hula Grill Waikiki\, 2335 Kalakaua Ave #203\, Honolulu\, HI\, 96815\, United States
CATEGORIES:Live Entertainment
ATTACH;FMTTYPE=image/jpeg:https://www.hulagrillwaikiki.com/wp-content/uploads/2024/07/jefferson-santos-fCEJGBzAkrU-unsplash-scaled.jpg
END:VEVENT
END:VCALENDAR