BEGIN:VCALENDAR
VERSION:2.0
PRODID:-//Hula Grill Waikiki - ECPv6.15.20//NONSGML v1.0//EN
CALSCALE:GREGORIAN
METHOD:PUBLISH
X-WR-CALNAME:Hula Grill Waikiki
X-ORIGINAL-URL:https://www.hulagrillwaikiki.com
X-WR-CALDESC:Events for Hula Grill Waikiki
REFRESH-INTERVAL;VALUE=DURATION:PT1H
X-Robots-Tag:noindex
X-PUBLISHED-TTL:PT1H
BEGIN:VTIMEZONE
TZID:Pacific/Honolulu
BEGIN:STANDARD
TZOFFSETFROM:-1000
TZOFFSETTO:-1000
TZNAME:HST
DTSTART:20240101T000000
END:STANDARD
END:VTIMEZONE
BEGIN:VEVENT
DTSTART;TZID=Pacific/Honolulu:20250728T120000
DTEND;TZID=Pacific/Honolulu:20250728T140000
DTSTAMP:20260423T132422
CREATED:20250708T034825Z
LAST-MODIFIED:20250708T034825Z
UID:6562-1753704000-1753711200@www.hulagrillwaikiki.com
SUMMARY:Live Music: Ben Kama
DESCRIPTION:Join us for live music by Ben Kama on Monday\, July 28\, from 12:00pm – 2:00pm.
URL:https://www.hulagrillwaikiki.com/event/live-music-ben-kama-12/
LOCATION:Hula Grill Waikiki\, 2335 Kalakaua Ave #203\, Honolulu\, HI\, 96815\, United States
CATEGORIES:Live Entertainment,Weekly Events
ATTACH;FMTTYPE=image/jpeg:https://www.hulagrillwaikiki.com/wp-content/uploads/2024/07/iStock-1190645702.jpg
END:VEVENT
BEGIN:VEVENT
DTSTART;TZID=Pacific/Honolulu:20250727T120000
DTEND;TZID=Pacific/Honolulu:20250727T140000
DTSTAMP:20260423T132422
CREATED:20250708T034746Z
LAST-MODIFIED:20250708T034746Z
UID:6561-1753617600-1753624800@www.hulagrillwaikiki.com
SUMMARY:Live Music: Stephen Inglis Accompanied by a Hula Performance
DESCRIPTION:Join us for live music by Stephen Inglis accompanied by a Hula Performance on Sunday\, July 27\, from 12:00pm – 2:00pm.
URL:https://www.hulagrillwaikiki.com/event/live-music-stephen-inglis-accompanied-by-a-hula-performance-2/
LOCATION:Hula Grill Waikiki\, 2335 Kalakaua Ave #203\, Honolulu\, HI\, 96815\, United States
CATEGORIES:Live Entertainment,Weekly Events
ATTACH;FMTTYPE=image/jpeg:https://www.hulagrillwaikiki.com/wp-content/uploads/2024/07/iStock-1263105417.jpg
END:VEVENT
BEGIN:VEVENT
DTSTART;TZID=Pacific/Honolulu:20250726T120000
DTEND;TZID=Pacific/Honolulu:20250726T140000
DTSTAMP:20260423T132422
CREATED:20250708T034643Z
LAST-MODIFIED:20250708T034643Z
UID:6560-1753531200-1753538400@www.hulagrillwaikiki.com
SUMMARY:Live Music: Kamaka Camarillo
DESCRIPTION:Join us for live music by Kamaka Camarillo on Saturday\, July 26\, from 12:00pm – 2:00pm.
URL:https://www.hulagrillwaikiki.com/event/live-music-kamaka-camarillo-8/
LOCATION:Hula Grill Waikiki\, 2335 Kalakaua Ave #203\, Honolulu\, HI\, 96815\, United States
CATEGORIES:Live Entertainment,Weekly Events
ATTACH;FMTTYPE=image/jpeg:https://www.hulagrillwaikiki.com/wp-content/uploads/2024/07/iStock-1190645702.jpg
END:VEVENT
BEGIN:VEVENT
DTSTART;TZID=Pacific/Honolulu:20250725T120000
DTEND;TZID=Pacific/Honolulu:20250725T140000
DTSTAMP:20260423T132422
CREATED:20250708T034559Z
LAST-MODIFIED:20250708T034559Z
UID:6559-1753444800-1753452000@www.hulagrillwaikiki.com
SUMMARY:Live Music: Randy Allen
DESCRIPTION:Join us for live music by Randy Allen on Friday\, July 25\, from 12:00pm – 2:00pm.
URL:https://www.hulagrillwaikiki.com/event/live-music-randy-allen-20/
LOCATION:Hula Grill Waikiki\, 2335 Kalakaua Ave #203\, Honolulu\, HI\, 96815\, United States
CATEGORIES:Live Entertainment,Weekly Events
ATTACH;FMTTYPE=image/jpeg:https://www.hulagrillwaikiki.com/wp-content/uploads/2024/07/iStock-1263105417.jpg
END:VEVENT
BEGIN:VEVENT
DTSTART;TZID=Pacific/Honolulu:20250724T120000
DTEND;TZID=Pacific/Honolulu:20250724T140000
DTSTAMP:20260423T132422
CREATED:20250708T034514Z
LAST-MODIFIED:20250708T034514Z
UID:6558-1753358400-1753365600@www.hulagrillwaikiki.com
SUMMARY:Live Music: Yoza
DESCRIPTION:Join us for live music by Yoza on Thursday\, July 24\, from 12:00pm – 2:00pm.
URL:https://www.hulagrillwaikiki.com/event/live-music-yoza-16/
LOCATION:Hula Grill Waikiki\, 2335 Kalakaua Ave #203\, Honolulu\, HI\, 96815\, United States
CATEGORIES:Live Entertainment,Weekly Events
ATTACH;FMTTYPE=image/jpeg:https://www.hulagrillwaikiki.com/wp-content/uploads/2024/07/jefferson-santos-fCEJGBzAkrU-unsplash-scaled.jpg
END:VEVENT
BEGIN:VEVENT
DTSTART;TZID=Pacific/Honolulu:20250723T120000
DTEND;TZID=Pacific/Honolulu:20250723T140000
DTSTAMP:20260423T132422
CREATED:20250708T034435Z
LAST-MODIFIED:20250708T034435Z
UID:6557-1753272000-1753279200@www.hulagrillwaikiki.com
SUMMARY:Live Music: Ronson Asuncion
DESCRIPTION:Join us for live music by Ronson Asuncion on Wednesday\, July 23\, from 12:00pm – 2:00pm.
URL:https://www.hulagrillwaikiki.com/event/live-music-ronson-asuncion-16/
LOCATION:Hula Grill Waikiki\, 2335 Kalakaua Ave #203\, Honolulu\, HI\, 96815\, United States
CATEGORIES:Live Entertainment,Weekly Events
ATTACH;FMTTYPE=image/jpeg:https://www.hulagrillwaikiki.com/wp-content/uploads/2024/07/iStock-1190645702.jpg
END:VEVENT
BEGIN:VEVENT
DTSTART;TZID=Pacific/Honolulu:20250722T120000
DTEND;TZID=Pacific/Honolulu:20250722T140000
DTSTAMP:20260423T132422
CREATED:20250708T033314Z
LAST-MODIFIED:20250708T033314Z
UID:6556-1753185600-1753192800@www.hulagrillwaikiki.com
SUMMARY:Live Music: Kawika Kahiapo
DESCRIPTION:Join us for live music by Kawika Kahiapo on Tuesday\, July 22\, from 12:00pm – 2:00pm.
URL:https://www.hulagrillwaikiki.com/event/live-music-kawika-kahiapo-16/
LOCATION:Hula Grill Waikiki\, 2335 Kalakaua Ave #203\, Honolulu\, HI\, 96815\, United States
CATEGORIES:Live Entertainment,Weekly Events
ATTACH;FMTTYPE=image/jpeg:https://www.hulagrillwaikiki.com/wp-content/uploads/2024/07/iStock-1190645702.jpg
END:VEVENT
BEGIN:VEVENT
DTSTART;TZID=Pacific/Honolulu:20250721T120000
DTEND;TZID=Pacific/Honolulu:20250721T140000
DTSTAMP:20260423T132422
CREATED:20250708T033214Z
LAST-MODIFIED:20250708T033214Z
UID:6555-1753099200-1753106400@www.hulagrillwaikiki.com
SUMMARY:Live Music: Ben Kama
DESCRIPTION:Join us for live music by Ben Kama on Monday\, July 21\, from 12:00pm – 2:00pm.
URL:https://www.hulagrillwaikiki.com/event/live-music-ben-kama-11/
LOCATION:Hula Grill Waikiki\, 2335 Kalakaua Ave #203\, Honolulu\, HI\, 96815\, United States
CATEGORIES:Live Entertainment,Weekly Events
ATTACH;FMTTYPE=image/jpeg:https://www.hulagrillwaikiki.com/wp-content/uploads/2024/07/iStock-1263105417.jpg
END:VEVENT
BEGIN:VEVENT
DTSTART;TZID=Pacific/Honolulu:20250720T120000
DTEND;TZID=Pacific/Honolulu:20250720T140000
DTSTAMP:20260423T132422
CREATED:20250708T032945Z
LAST-MODIFIED:20250708T032945Z
UID:6554-1753012800-1753020000@www.hulagrillwaikiki.com
SUMMARY:Live Music: Keoni Ku Accompanied by a Hula Performance
DESCRIPTION:Join us for live music by Keoni Ku accompanied by a hula performance on Sunday\, July 20\, from 12:00pm – 2:00pm.
URL:https://www.hulagrillwaikiki.com/event/live-music-keoni-ku-accompanied-by-a-hula-performance-3/
LOCATION:Hula Grill Waikiki\, 2335 Kalakaua Ave #203\, Honolulu\, HI\, 96815\, United States
CATEGORIES:Live Entertainment,Weekly Events
ATTACH;FMTTYPE=image/jpeg:https://www.hulagrillwaikiki.com/wp-content/uploads/2024/07/iStock-1263105417.jpg
END:VEVENT
BEGIN:VEVENT
DTSTART;TZID=Pacific/Honolulu:20250719T120000
DTEND;TZID=Pacific/Honolulu:20250719T140000
DTSTAMP:20260423T132422
CREATED:20250708T032503Z
LAST-MODIFIED:20250708T032503Z
UID:6553-1752926400-1752933600@www.hulagrillwaikiki.com
SUMMARY:Live Music: Walt Keale
DESCRIPTION:Join us for live music by Walt Keale on Saturday\, July 19\, from 12:00pm – 2:00pm.
URL:https://www.hulagrillwaikiki.com/event/live-music-walt-keale-8/
LOCATION:Hula Grill Waikiki\, 2335 Kalakaua Ave #203\, Honolulu\, HI\, 96815\, United States
CATEGORIES:Live Entertainment,Weekly Events
ATTACH;FMTTYPE=image/jpeg:https://www.hulagrillwaikiki.com/wp-content/uploads/2024/07/jefferson-santos-fCEJGBzAkrU-unsplash-scaled.jpg
END:VEVENT
BEGIN:VEVENT
DTSTART;TZID=Pacific/Honolulu:20250718T120000
DTEND;TZID=Pacific/Honolulu:20250718T140000
DTSTAMP:20260423T132422
CREATED:20250708T031902Z
LAST-MODIFIED:20250708T031902Z
UID:6552-1752840000-1752847200@www.hulagrillwaikiki.com
SUMMARY:Live Music: Randy Allen
DESCRIPTION:Join us for live music by Randy Allen on Friday\, July 18\, from 12:00pm – 2:00pm.
URL:https://www.hulagrillwaikiki.com/event/live-music-randy-allen-19/
LOCATION:Hula Grill Waikiki\, 2335 Kalakaua Ave #203\, Honolulu\, HI\, 96815\, United States
CATEGORIES:Live Entertainment,Weekly Events
ATTACH;FMTTYPE=image/jpeg:https://www.hulagrillwaikiki.com/wp-content/uploads/2024/07/iStock-1190645702.jpg
END:VEVENT
BEGIN:VEVENT
DTSTART;TZID=Pacific/Honolulu:20250717T120000
DTEND;TZID=Pacific/Honolulu:20250717T140000
DTSTAMP:20260423T132422
CREATED:20250708T031741Z
LAST-MODIFIED:20250708T031741Z
UID:6551-1752753600-1752760800@www.hulagrillwaikiki.com
SUMMARY:Live Music: Yoza
DESCRIPTION:Join us for live music by Yoza on Thursday\, July 17\, from 12:00pm – 2:00pm.
URL:https://www.hulagrillwaikiki.com/event/live-music-yoza-15/
LOCATION:Hula Grill Waikiki\, 2335 Kalakaua Ave #203\, Honolulu\, HI\, 96815\, United States
CATEGORIES:Live Entertainment,Weekly Events
ATTACH;FMTTYPE=image/jpeg:https://www.hulagrillwaikiki.com/wp-content/uploads/2024/07/iStock-1263105417.jpg
END:VEVENT
BEGIN:VEVENT
DTSTART;TZID=Pacific/Honolulu:20250716T120000
DTEND;TZID=Pacific/Honolulu:20250716T140000
DTSTAMP:20260423T132422
CREATED:20250708T031644Z
LAST-MODIFIED:20250708T031644Z
UID:6550-1752667200-1752674400@www.hulagrillwaikiki.com
SUMMARY:Live Music: Ronson Asuncion
DESCRIPTION:Join us for live music by Ronson Asuncion on Wednesday\, July 16\, from 12:00pm – 2:00pm.
URL:https://www.hulagrillwaikiki.com/event/live-music-ronson-asuncion-15/
LOCATION:Hula Grill Waikiki\, 2335 Kalakaua Ave #203\, Honolulu\, HI\, 96815\, United States
CATEGORIES:Live Entertainment,Weekly Events
ATTACH;FMTTYPE=image/jpeg:https://www.hulagrillwaikiki.com/wp-content/uploads/2024/07/jefferson-santos-fCEJGBzAkrU-unsplash-scaled.jpg
END:VEVENT
BEGIN:VEVENT
DTSTART;TZID=Pacific/Honolulu:20250715T120000
DTEND;TZID=Pacific/Honolulu:20250715T140000
DTSTAMP:20260423T132422
CREATED:20250708T031545Z
LAST-MODIFIED:20250708T031545Z
UID:6549-1752580800-1752588000@www.hulagrillwaikiki.com
SUMMARY:Live Music: Kawika Kahiapo
DESCRIPTION:Join us for live music by Kawika Kahiapo on Tuesday\, July 15\, from 12:00pm – 2:00pm.
URL:https://www.hulagrillwaikiki.com/event/live-music-kawika-kahiapo-15/
LOCATION:Hula Grill Waikiki\, 2335 Kalakaua Ave #203\, Honolulu\, HI\, 96815\, United States
CATEGORIES:Live Entertainment,Weekly Events
ATTACH;FMTTYPE=image/jpeg:https://www.hulagrillwaikiki.com/wp-content/uploads/2024/07/iStock-1190645702.jpg
END:VEVENT
BEGIN:VEVENT
DTSTART;TZID=Pacific/Honolulu:20250714T120000
DTEND;TZID=Pacific/Honolulu:20250714T140000
DTSTAMP:20260423T132422
CREATED:20250708T031439Z
LAST-MODIFIED:20250708T031439Z
UID:6548-1752494400-1752501600@www.hulagrillwaikiki.com
SUMMARY:Live Music: Ben Kama
DESCRIPTION:Join us for live music by Ben Kama on Monday\, July 14\, from 12:00pm – 2:00pm.
URL:https://www.hulagrillwaikiki.com/event/live-music-ben-kama-10/
LOCATION:Hula Grill Waikiki\, 2335 Kalakaua Ave #203\, Honolulu\, HI\, 96815\, United States
CATEGORIES:Live Entertainment,Weekly Events
ATTACH;FMTTYPE=image/jpeg:https://www.hulagrillwaikiki.com/wp-content/uploads/2024/07/iStock-1263105417.jpg
END:VEVENT
BEGIN:VEVENT
DTSTART;TZID=Pacific/Honolulu:20250713T120000
DTEND;TZID=Pacific/Honolulu:20250713T140000
DTSTAMP:20260423T132422
CREATED:20250708T031159Z
LAST-MODIFIED:20250708T031159Z
UID:6547-1752408000-1752415200@www.hulagrillwaikiki.com
SUMMARY:Live Music: Keoni Ku Accompanied by a Hula Performance
DESCRIPTION:Join us for live music by Keoni Ku accompanied by a hula performance on Sunday\, July 13\, from 12:00pm – 2:00pm.
URL:https://www.hulagrillwaikiki.com/event/live-music-keoni-ku-accompanied-by-a-hula-performance-2/
LOCATION:Hula Grill Waikiki\, 2335 Kalakaua Ave #203\, Honolulu\, HI\, 96815\, United States
CATEGORIES:Live Entertainment,Weekly Events
ATTACH;FMTTYPE=image/jpeg:https://www.hulagrillwaikiki.com/wp-content/uploads/2024/07/iStock-1190645702.jpg
END:VEVENT
BEGIN:VEVENT
DTSTART;TZID=Pacific/Honolulu:20250712T120000
DTEND;TZID=Pacific/Honolulu:20250712T140000
DTSTAMP:20260423T132422
CREATED:20250708T031033Z
LAST-MODIFIED:20250708T031033Z
UID:6546-1752321600-1752328800@www.hulagrillwaikiki.com
SUMMARY:Live Music: Kamaka Camarillo
DESCRIPTION:Join us for live music by Kamaka Camarillo on Saturday\, July 12\, from 12:00pm – 2:00pm.
URL:https://www.hulagrillwaikiki.com/event/live-music-kamaka-camarillo-7/
LOCATION:Hula Grill Waikiki\, 2335 Kalakaua Ave #203\, Honolulu\, HI\, 96815\, United States
CATEGORIES:Live Entertainment,Weekly Events
ATTACH;FMTTYPE=image/jpeg:https://www.hulagrillwaikiki.com/wp-content/uploads/2024/07/iStock-1263105417.jpg
END:VEVENT
BEGIN:VEVENT
DTSTART;TZID=Pacific/Honolulu:20250711T120000
DTEND;TZID=Pacific/Honolulu:20250711T140000
DTSTAMP:20260423T132422
CREATED:20250708T030907Z
LAST-MODIFIED:20250708T030907Z
UID:6545-1752235200-1752242400@www.hulagrillwaikiki.com
SUMMARY:Live Music: Randy Allen
DESCRIPTION:Join us for live music by Randy Allen on Friday\, July 11\, from 12:00pm – 2:00pm.
URL:https://www.hulagrillwaikiki.com/event/live-music-randy-allen-18/
LOCATION:Hula Grill Waikiki\, 2335 Kalakaua Ave #203\, Honolulu\, HI\, 96815\, United States
CATEGORIES:Live Entertainment,Weekly Events
ATTACH;FMTTYPE=image/jpeg:https://www.hulagrillwaikiki.com/wp-content/uploads/2024/07/jefferson-santos-fCEJGBzAkrU-unsplash-scaled.jpg
END:VEVENT
BEGIN:VEVENT
DTSTART;TZID=Pacific/Honolulu:20250710T120000
DTEND;TZID=Pacific/Honolulu:20250710T140000
DTSTAMP:20260423T132422
CREATED:20250708T030823Z
LAST-MODIFIED:20250708T030823Z
UID:6544-1752148800-1752156000@www.hulagrillwaikiki.com
SUMMARY:Live Music: Yoza
DESCRIPTION:Join us for live music by Yoza on Thursday\, July 10\, from 12:00pm – 2:00pm.
URL:https://www.hulagrillwaikiki.com/event/live-music-yoza-14/
LOCATION:Hula Grill Waikiki\, 2335 Kalakaua Ave #203\, Honolulu\, HI\, 96815\, United States
CATEGORIES:Live Entertainment,Weekly Events
ATTACH;FMTTYPE=image/jpeg:https://www.hulagrillwaikiki.com/wp-content/uploads/2024/07/iStock-1190645702.jpg
END:VEVENT
BEGIN:VEVENT
DTSTART;TZID=Pacific/Honolulu:20250709T120000
DTEND;TZID=Pacific/Honolulu:20250709T140000
DTSTAMP:20260423T132422
CREATED:20250708T030732Z
LAST-MODIFIED:20250708T030732Z
UID:6543-1752062400-1752069600@www.hulagrillwaikiki.com
SUMMARY:Live Music: Ronson Asuncion
DESCRIPTION:Join us for live music by Ronson Asuncion on Wednesday\, July 9\, from 12:00pm – 2:00pm.
URL:https://www.hulagrillwaikiki.com/event/live-music-ronson-asuncion-14/
LOCATION:Hula Grill Waikiki\, 2335 Kalakaua Ave #203\, Honolulu\, HI\, 96815\, United States
CATEGORIES:Live Entertainment,Weekly Events
ATTACH;FMTTYPE=image/jpeg:https://www.hulagrillwaikiki.com/wp-content/uploads/2024/07/iStock-1263105417.jpg
END:VEVENT
BEGIN:VEVENT
DTSTART;TZID=Pacific/Honolulu:20250708T120000
DTEND;TZID=Pacific/Honolulu:20250708T140000
DTSTAMP:20260423T132422
CREATED:20250708T030617Z
LAST-MODIFIED:20250708T030617Z
UID:6542-1751976000-1751983200@www.hulagrillwaikiki.com
SUMMARY:Live Music: Kawika Kahiapo
DESCRIPTION:Join us for live music by Kawika Kahiapo on Tuesday\, July 8\, from 12:00pm – 2:00pm.
URL:https://www.hulagrillwaikiki.com/event/live-music-kawika-kahiapo-14/
LOCATION:Hula Grill Waikiki\, 2335 Kalakaua Ave #203\, Honolulu\, HI\, 96815\, United States
CATEGORIES:Live Entertainment,Weekly Events
ATTACH;FMTTYPE=image/jpeg:https://www.hulagrillwaikiki.com/wp-content/uploads/2024/07/jefferson-santos-fCEJGBzAkrU-unsplash-scaled.jpg
END:VEVENT
BEGIN:VEVENT
DTSTART;TZID=Pacific/Honolulu:20250630T120000
DTEND;TZID=Pacific/Honolulu:20250630T140000
DTSTAMP:20260423T132422
CREATED:20250603T234520Z
LAST-MODIFIED:20250603T234520Z
UID:6540-1751284800-1751292000@www.hulagrillwaikiki.com
SUMMARY:Live Music: Kahiau Lam Ho
DESCRIPTION:Join us for live music by Kahiau Lam Ho on Monday\, June 30\, from 12:00pm – 2:00pm.
URL:https://www.hulagrillwaikiki.com/event/live-music-kahiau-lam-ho-4/
LOCATION:Hula Grill Waikiki\, 2335 Kalakaua Ave #203\, Honolulu\, HI\, 96815\, United States
CATEGORIES:Live Entertainment
ATTACH;FMTTYPE=image/jpeg:https://www.hulagrillwaikiki.com/wp-content/uploads/2024/07/jefferson-santos-fCEJGBzAkrU-unsplash-scaled.jpg
END:VEVENT
BEGIN:VEVENT
DTSTART;TZID=Pacific/Honolulu:20250629T120000
DTEND;TZID=Pacific/Honolulu:20250629T140000
DTSTAMP:20260423T132422
CREATED:20250603T234437Z
LAST-MODIFIED:20250603T234437Z
UID:6539-1751198400-1751205600@www.hulagrillwaikiki.com
SUMMARY:Live Music: Jason Midro Accompanied by a Hula Performance
DESCRIPTION:Join us for live music by Jason Midro accompanied by a hula performance on Sunday\, June 29\, from 12:00pm – 2:00pm.
URL:https://www.hulagrillwaikiki.com/event/live-music-jason-midro-accompanied-by-a-hula-performance-4/
LOCATION:Hula Grill Waikiki\, 2335 Kalakaua Ave #203\, Honolulu\, HI\, 96815\, United States
CATEGORIES:Live Entertainment
ATTACH;FMTTYPE=image/jpeg:https://www.hulagrillwaikiki.com/wp-content/uploads/2024/07/iStock-1190645702.jpg
END:VEVENT
BEGIN:VEVENT
DTSTART;TZID=Pacific/Honolulu:20250628T120000
DTEND;TZID=Pacific/Honolulu:20250628T140000
DTSTAMP:20260423T132422
CREATED:20250603T234305Z
LAST-MODIFIED:20250603T234305Z
UID:6538-1751112000-1751119200@www.hulagrillwaikiki.com
SUMMARY:Live Music: Kamaka Camarillo
DESCRIPTION:Join us for live music by Kamaka Camarillo on Saturday\, June 28\, from 12:00pm – 2:00pm.
URL:https://www.hulagrillwaikiki.com/event/live-music-kamaka-camarillo-6/
LOCATION:Hula Grill Waikiki\, 2335 Kalakaua Ave #203\, Honolulu\, HI\, 96815\, United States
CATEGORIES:Live Entertainment
ATTACH;FMTTYPE=image/jpeg:https://www.hulagrillwaikiki.com/wp-content/uploads/2024/07/iStock-1263105417.jpg
END:VEVENT
BEGIN:VEVENT
DTSTART;TZID=Pacific/Honolulu:20250627T120000
DTEND;TZID=Pacific/Honolulu:20250627T140000
DTSTAMP:20260423T132422
CREATED:20250603T234205Z
LAST-MODIFIED:20250603T234205Z
UID:6537-1751025600-1751032800@www.hulagrillwaikiki.com
SUMMARY:Live Music: Randy Allen
DESCRIPTION:Join us for live music by Randy Allen on Friday\, June 27\, from 12:00pm – 2:00pm.
URL:https://www.hulagrillwaikiki.com/event/live-music-randy-allen-17/
LOCATION:Hula Grill Waikiki\, 2335 Kalakaua Ave #203\, Honolulu\, HI\, 96815\, United States
CATEGORIES:Live Entertainment
ATTACH;FMTTYPE=image/jpeg:https://www.hulagrillwaikiki.com/wp-content/uploads/2024/07/jefferson-santos-fCEJGBzAkrU-unsplash-scaled.jpg
END:VEVENT
BEGIN:VEVENT
DTSTART;TZID=Pacific/Honolulu:20250626T120000
DTEND;TZID=Pacific/Honolulu:20250626T140000
DTSTAMP:20260423T132422
CREATED:20250603T234105Z
LAST-MODIFIED:20250603T234105Z
UID:6536-1750939200-1750946400@www.hulagrillwaikiki.com
SUMMARY:Live Music: Yoza
DESCRIPTION:Join us for live music by Yoza on Thursday\, June 26\, from 12:00pm – 2:00pm.
URL:https://www.hulagrillwaikiki.com/event/live-music-yoza-13/
LOCATION:Hula Grill Waikiki\, 2335 Kalakaua Ave #203\, Honolulu\, HI\, 96815\, United States
CATEGORIES:Live Entertainment
ATTACH;FMTTYPE=image/jpeg:https://www.hulagrillwaikiki.com/wp-content/uploads/2024/07/iStock-1190645702.jpg
END:VEVENT
BEGIN:VEVENT
DTSTART;TZID=Pacific/Honolulu:20250625T120000
DTEND;TZID=Pacific/Honolulu:20250625T140000
DTSTAMP:20260423T132422
CREATED:20250603T234011Z
LAST-MODIFIED:20250603T234011Z
UID:6535-1750852800-1750860000@www.hulagrillwaikiki.com
SUMMARY:Live Music: Ronson Asuncion
DESCRIPTION:Join us for live music by Ronson Asuncion on Wednesday\, June 25\, from 12:00pm – 2:00pm.
URL:https://www.hulagrillwaikiki.com/event/live-music-ronson-asuncion-13/
LOCATION:Hula Grill Waikiki\, 2335 Kalakaua Ave #203\, Honolulu\, HI\, 96815\, United States
CATEGORIES:Live Entertainment
ATTACH;FMTTYPE=image/jpeg:https://www.hulagrillwaikiki.com/wp-content/uploads/2024/07/iStock-1263105417.jpg
END:VEVENT
BEGIN:VEVENT
DTSTART;TZID=Pacific/Honolulu:20250624T120000
DTEND;TZID=Pacific/Honolulu:20250624T140000
DTSTAMP:20260423T132422
CREATED:20250603T233915Z
LAST-MODIFIED:20250603T233915Z
UID:6534-1750766400-1750773600@www.hulagrillwaikiki.com
SUMMARY:Live Music: Kawika Kahiapo
DESCRIPTION:Join us for live music by Kawika Kahiapo on Tuesday\, June 24\, from 12:00pm – 2:00pm.
URL:https://www.hulagrillwaikiki.com/event/live-music-kawika-kahiapo-13/
LOCATION:Hula Grill Waikiki\, 2335 Kalakaua Ave #203\, Honolulu\, HI\, 96815\, United States
CATEGORIES:Live Entertainment
ATTACH;FMTTYPE=image/jpeg:https://www.hulagrillwaikiki.com/wp-content/uploads/2024/07/jefferson-santos-fCEJGBzAkrU-unsplash-scaled.jpg
END:VEVENT
BEGIN:VEVENT
DTSTART;TZID=Pacific/Honolulu:20250623T120000
DTEND;TZID=Pacific/Honolulu:20250623T140000
DTSTAMP:20260423T132422
CREATED:20250603T233830Z
LAST-MODIFIED:20250603T233830Z
UID:6533-1750680000-1750687200@www.hulagrillwaikiki.com
SUMMARY:Live Music: Ben Kama
DESCRIPTION:Join us for live music by Ben Kama on Monday\, June 23\, from 12:00pm – 2:00pm.
URL:https://www.hulagrillwaikiki.com/event/live-music-ben-kama-9/
LOCATION:Hula Grill Waikiki\, 2335 Kalakaua Ave #203\, Honolulu\, HI\, 96815\, United States
CATEGORIES:Live Entertainment
ATTACH;FMTTYPE=image/jpeg:https://www.hulagrillwaikiki.com/wp-content/uploads/2024/07/iStock-1190645702.jpg
END:VEVENT
BEGIN:VEVENT
DTSTART;TZID=Pacific/Honolulu:20250622T120000
DTEND;TZID=Pacific/Honolulu:20250622T140000
DTSTAMP:20260423T132422
CREATED:20250603T233728Z
LAST-MODIFIED:20250603T233728Z
UID:6532-1750593600-1750600800@www.hulagrillwaikiki.com
SUMMARY:Live Music: Stephen Inglis Accompanied by a Hula Performance
DESCRIPTION:Join us for live music by Stephen Inglis accompanied by a hula performance on Sunday\, June 22\, from 12:00pm – 2:00pm.
URL:https://www.hulagrillwaikiki.com/event/live-music-stephen-inglis-accompanied-by-a-hula-performance/
LOCATION:Hula Grill Waikiki\, 2335 Kalakaua Ave #203\, Honolulu\, HI\, 96815\, United States
CATEGORIES:Live Entertainment
ATTACH;FMTTYPE=image/jpeg:https://www.hulagrillwaikiki.com/wp-content/uploads/2024/07/iStock-1263105417.jpg
END:VEVENT
END:VCALENDAR